BEGIN:VCALENDAR
VERSION:2.0
PRODID:-//Welcome to Godfrey&#039;s Pond - ECPv4.7.3//NONSGML v1.0//EN
CALSCALE:GREGORIAN
METHOD:PUBLISH
X-WR-CALNAME:Welcome to Godfrey&#039;s Pond
X-ORIGINAL-URL:https://godfreyspond.com
X-WR-CALDESC:Events for Welcome to Godfrey&#039;s Pond
BEGIN:VEVENT
DTSTART;TZID=America/New_York:20250824T090000
DTEND;TZID=America/New_York:20250824T210000
DTSTAMP:20260423T043706
CREATED:20250802T203443Z
LAST-MODIFIED:20250803T082114Z
UID:7090-1756026000-1756069200@godfreyspond.com
SUMMARY:Clubhouse Reserved
DESCRIPTION:Clubhouse Reserved \nRickard \n9:00am- 9:00pm \n
URL:https://godfreyspond.com/calendar/clubhouse-reserved-294/
CATEGORIES:Reservations
END:VEVENT
BEGIN:VEVENT
DTSTART;TZID=America/New_York:20250824T120000
DTEND;TZID=America/New_York:20250824T170000
DTSTAMP:20260423T043706
CREATED:20250814T150743Z
LAST-MODIFIED:20250814T150743Z
UID:7173-1756036800-1756054800@godfreyspond.com
SUMMARY:Pratt Pavilion Reserved
DESCRIPTION:Pratt Pavilion Reserved \nHouseknecht \n12:00pm- 5:00pm \n
URL:https://godfreyspond.com/calendar/pratt-pavilion-reserved-84/
CATEGORIES:Public,Reservations
END:VEVENT
END:VCALENDAR