BEGIN:VCALENDAR
VERSION:2.0
PRODID:-//Welcome to Godfrey&#039;s Pond - ECPv4.7.3//NONSGML v1.0//EN
CALSCALE:GREGORIAN
METHOD:PUBLISH
X-WR-CALNAME:Welcome to Godfrey&#039;s Pond
X-ORIGINAL-URL:https://godfreyspond.com
X-WR-CALDESC:Events for Welcome to Godfrey&#039;s Pond
BEGIN:VEVENT
DTSTART;TZID=America/New_York:20251123T140000
DTEND;TZID=America/New_York:20251123T180000
DTSTAMP:20260422T231644
CREATED:20250912T220215Z
LAST-MODIFIED:20251018T154112Z
UID:7257-1763906400-1763920800@godfreyspond.com
SUMMARY:Clubhouse Resrved
DESCRIPTION:Clubhouse reserved \nGraff \n2:00pm- 6:00pm \n
URL:https://godfreyspond.com/calendar/clubhouse-resrved/
CATEGORIES:Reservations
END:VEVENT
END:VCALENDAR