BEGIN:VCALENDAR
VERSION:2.0
PRODID:-//Welcome to Godfrey&#039;s Pond - ECPv4.7.3//NONSGML v1.0//EN
CALSCALE:GREGORIAN
METHOD:PUBLISH
X-WR-CALNAME:Welcome to Godfrey&#039;s Pond
X-ORIGINAL-URL:https://godfreyspond.com
X-WR-CALDESC:Events for Welcome to Godfrey&#039;s Pond
BEGIN:VEVENT
DTSTART;TZID=America/New_York:20260228T100000
DTEND;TZID=America/New_York:20260228T190000
DTSTAMP:20260422T155128
CREATED:20260109T013525Z
LAST-MODIFIED:20260122T162125Z
UID:7369-1772272800-1772305200@godfreyspond.com
SUMMARY:Clubhouse Reserved
DESCRIPTION:Clubhouse Reserved \nCarr \n10:00am- 7:00pm \n
URL:https://godfreyspond.com/calendar/clubhouse-reserved-313/
CATEGORIES:Reservations
END:VEVENT
END:VCALENDAR