BEGIN:VCALENDAR
VERSION:2.0
PRODID:-//Welcome to Godfrey&#039;s Pond - ECPv4.7.3//NONSGML v1.0//EN
CALSCALE:GREGORIAN
METHOD:PUBLISH
X-WR-CALNAME:Welcome to Godfrey&#039;s Pond
X-ORIGINAL-URL:https://godfreyspond.com
X-WR-CALDESC:Events for Welcome to Godfrey&#039;s Pond
BEGIN:VEVENT
DTSTART;TZID=America/New_York:20230701T183000
DTEND;TZID=America/New_York:20230701T223000
DTSTAMP:20260421T222558
CREATED:20230216T164610Z
LAST-MODIFIED:20230621T135322Z
UID:4381-1688236200-1688250600@godfreyspond.com
SUMMARY:4th of July Festivities!
DESCRIPTION:This fun event is all things patriotic!  We look forward to being a part of this celebration for you and your family. \n
URL:https://godfreyspond.com/calendar/4th-of-july-festivities/
LOCATION:Godfrey’s Pond\, 7925 Godfrey’s Pond Road\, Bergen\, 14416\, United States
CATEGORIES:Event,Public
ATTACH;FMTTYPE=image/jpeg:https://godfreyspond.com/wp-content/uploads/2023/02/Fireworks.jpg
END:VEVENT
END:VCALENDAR