BEGIN:VCALENDAR
VERSION:2.0
PRODID:-//Welcome to Godfrey&#039;s Pond - ECPv4.7.3//NONSGML v1.0//EN
CALSCALE:GREGORIAN
METHOD:PUBLISH
X-WR-CALNAME:Welcome to Godfrey&#039;s Pond
X-ORIGINAL-URL:https://godfreyspond.com
X-WR-CALDESC:Events for Welcome to Godfrey&#039;s Pond
BEGIN:VEVENT
DTSTART;TZID=America/New_York:20240601T100000
DTEND;TZID=America/New_York:20240601T120000
DTSTAMP:20260421T001454
CREATED:20240313T113306Z
LAST-MODIFIED:20240313T113306Z
UID:5369-1717236000-1717243200@godfreyspond.com
SUMMARY:Andy Merkel Memorial Companion Retriever Hunting Challenge
DESCRIPTION:Save the Date! This event\, over by the Trout Pond\, will be focused on enjoying the experience of running the dogs in a goose and duck hunting scenario. Plenty of conversation regarding waterfowl hunting and the many memories of watching Andy handle his yellow lab\, Roy\, and winning the highest score the last four events we sponsored.\n\nAll levels of sporting dogs are welcome to enter. We will not be scoring the CRHC but will have a handlers drawing for sponsored products. The only prerequisite is that the dog is conditioned under the gun.\n\nAll handlers will be required to use a goose and duck call and shoot a 12-guage popper load resembling a real hunt. We will have plenty of help for any handler that needs assistance with their dog.\n\nPlease email Jim Beverly at: jbeverly@retrievertrainer.com to confirm participation or have any questions.\n
URL:https://godfreyspond.com/calendar/andy-merkel-memorial-companion-retriever-hunting-challenge/
LOCATION:Godfrey’s Pond\, 7925 Godfrey’s Pond Road\, Bergen\, 14416\, United States
CATEGORIES:Event,Public
ATTACH;FMTTYPE=image/jpeg:https://godfreyspond.com/wp-content/uploads/2024/03/Retriever-Challenge.jpg
END:VEVENT
END:VCALENDAR