BEGIN:VCALENDAR
VERSION:2.0
PRODID:-//Welcome to Godfrey&#039;s Pond - ECPv4.7.3//NONSGML v1.0//EN
CALSCALE:GREGORIAN
METHOD:PUBLISH
X-WR-CALNAME:Welcome to Godfrey&#039;s Pond
X-ORIGINAL-URL:https://godfreyspond.com
X-WR-CALDESC:Events for Welcome to Godfrey&#039;s Pond
BEGIN:VEVENT
DTSTART;TZID=America/New_York:20220807T080000
DTEND;TZID=America/New_York:20220807T100000
DTSTAMP:20260425T021507
CREATED:20220216T180304Z
LAST-MODIFIED:20220429T131208Z
UID:3572-1659859200-1659866400@godfreyspond.com
SUMMARY:Paul Wood Fish Derby
DESCRIPTION:Paul Wood Fish Derby – an event for kids and families.  Prizes awarded for various sized fish and more! \n  \n
URL:https://godfreyspond.com/calendar/annual-paul-wood-fish-derby/
LOCATION:Godfrey’s Pond\, 7925 Godfrey’s Pond Road\, Bergen\, 14416\, United States
CATEGORIES:Event
ATTACH;FMTTYPE=image/jpeg:https://godfreyspond.com/wp-content/uploads/2022/02/Fishing-derby.jpg
END:VEVENT
END:VCALENDAR