BEGIN:VCALENDAR
VERSION:2.0
PRODID:-//Welcome to Godfrey&#039;s Pond - ECPv4.7.3//NONSGML v1.0//EN
CALSCALE:GREGORIAN
METHOD:PUBLISH
X-WR-CALNAME:Welcome to Godfrey&#039;s Pond
X-ORIGINAL-URL:https://godfreyspond.com
X-WR-CALDESC:Events for Welcome to Godfrey&#039;s Pond
BEGIN:VEVENT
DTSTART;TZID=America/New_York:20211020T190000
DTEND;TZID=America/New_York:20211020T203000
DTSTAMP:20260426T040130
CREATED:20210110T193357Z
LAST-MODIFIED:20210204T182350Z
UID:2396-1634756400-1634761800@godfreyspond.com
SUMMARY:Board Meeting
DESCRIPTION:Board Meeting of Board Members and Committee Chairpersons \n7:00 p.m. in Clubhouse. \n
URL:https://godfreyspond.com/calendar/board-meeting-12/
LOCATION:Godfrey’s Pond\, 7925 Godfrey’s Pond Road\, Bergen\, 14416\, United States
CATEGORIES:Meetings
ATTACH;FMTTYPE=image/png:https://godfreyspond.com/wp-content/uploads/2021/01/Board-Meeting.png
END:VEVENT
END:VCALENDAR