BEGIN:VCALENDAR
VERSION:2.0
PRODID:-//Welcome to Godfrey&#039;s Pond - ECPv4.7.3//NONSGML v1.0//EN
CALSCALE:GREGORIAN
METHOD:PUBLISH
X-WR-CALNAME:Welcome to Godfrey&#039;s Pond
X-ORIGINAL-URL:https://godfreyspond.com
X-WR-CALDESC:Events for Welcome to Godfrey&#039;s Pond
BEGIN:VEVENT
DTSTART;TZID=America/New_York:20231220T190000
DTEND;TZID=America/New_York:20231220T203000
DTSTAMP:20260422T000928
CREATED:20230207T135941Z
LAST-MODIFIED:20230207T135941Z
UID:4309-1703098800-1703104200@godfreyspond.com
SUMMARY:Board Members and Committee Chairpersons Meeting
DESCRIPTION:This meeting is attended by Board Members and Committee Chairpersons to review the business at Godfrey’s Pond.  They meet in the Board Room at 7:00 p.m. \n
URL:https://godfreyspond.com/calendar/board-members-and-committee-chairpersons-meeting-8/
LOCATION:Godfrey’s Pond\, 7925 Godfrey’s Pond Road\, Bergen\, 14416\, United States
CATEGORIES:Meetings
ATTACH;FMTTYPE=image/png:https://godfreyspond.com/wp-content/uploads/2022/01/Board-and-Committee-Chairpersons.png
END:VEVENT
END:VCALENDAR