BEGIN:VCALENDAR
VERSION:2.0
PRODID:-//Welcome to Godfrey&#039;s Pond - ECPv4.7.3//NONSGML v1.0//EN
CALSCALE:GREGORIAN
METHOD:PUBLISH
X-WR-CALNAME:Welcome to Godfrey&#039;s Pond
X-ORIGINAL-URL:https://godfreyspond.com
X-WR-CALDESC:Events for Welcome to Godfrey&#039;s Pond
BEGIN:VEVENT
DTSTART;TZID=America/New_York:20230419T190000
DTEND;TZID=America/New_York:20230419T203000
DTSTAMP:20260424T173622
CREATED:20230207T132843Z
LAST-MODIFIED:20230207T132843Z
UID:4277-1681930800-1681936200@godfreyspond.com
SUMMARY:Board Members & Committee Chairpersons Meeting
DESCRIPTION:Meeting for the Board Members and the Committee Chairpersons to review the business of the Pond.  In Board Room at 7:00 p.m. \n
URL:https://godfreyspond.com/calendar/board-members-committee-chairpersons-meeting/
LOCATION:Godfrey’s Pond\, 7925 Godfrey’s Pond Road\, Bergen\, 14416\, United States
CATEGORIES:Meetings
END:VEVENT
END:VCALENDAR