BEGIN:VCALENDAR
VERSION:2.0
PRODID:-//Welcome to Godfrey&#039;s Pond - ECPv4.7.3//NONSGML v1.0//EN
CALSCALE:GREGORIAN
METHOD:PUBLISH
X-WR-CALNAME:Welcome to Godfrey&#039;s Pond
X-ORIGINAL-URL:https://godfreyspond.com
X-WR-CALDESC:Events for Welcome to Godfrey&#039;s Pond
BEGIN:VEVENT
DTSTART;TZID=America/New_York:20230429T090000
DTEND;TZID=America/New_York:20230429T120000
DTSTAMP:20260424T102828
CREATED:20230216T161945Z
LAST-MODIFIED:20230216T161945Z
UID:4360-1682758800-1682769600@godfreyspond.com
SUMMARY:Camp Clean-Up with Hotdog Cookout!
DESCRIPTION:This event gives you the opportunity to visit your site and clean it up of twigs\, branches\, leaves and other.  Looking for help raking and picking up around the main areas of Godfrey’s Pond and whatever else is needed.  Enjoy your labor with a tasty lunch of grilled hotdogs put on by Lonnie and her staff in Camp B.  See you then! \n
URL:https://godfreyspond.com/calendar/camp-clean-up-with-hotdog-cookout/
LOCATION:Godfrey’s Pond\, 7925 Godfrey’s Pond Road\, Bergen\, 14416\, United States
CATEGORIES:Event,Public
ATTACH;FMTTYPE=image/jpeg:https://godfreyspond.com/wp-content/uploads/2023/02/Outdoor-cleanup.jpg
END:VEVENT
END:VCALENDAR