BEGIN:VCALENDAR
VERSION:2.0
PRODID:-//Welcome to Godfrey&#039;s Pond - ECPv4.7.3//NONSGML v1.0//EN
CALSCALE:GREGORIAN
METHOD:PUBLISH
X-WR-CALNAME:Welcome to Godfrey&#039;s Pond
X-ORIGINAL-URL:https://godfreyspond.com
X-WR-CALDESC:Events for Welcome to Godfrey&#039;s Pond
BEGIN:VEVENT
DTSTART;VALUE=DATE:20221016
DTEND;VALUE=DATE:20221017
DTSTAMP:20260424T214812
CREATED:20220429T131810Z
LAST-MODIFIED:20220429T131810Z
UID:3799-1665878400-1665964799@godfreyspond.com
SUMMARY:Campgrounds Close for the Season
DESCRIPTION:It’s always hard to say goodbye to our camping friends!  Till we meet next year around the campfire! \n
URL:https://godfreyspond.com/calendar/campgrounds-close-for-the-season/
LOCATION:Godfrey’s Pond\, 7925 Godfrey’s Pond Road\, Bergen\, 14416\, United States
CATEGORIES:Event
ATTACH;FMTTYPE=image/jpeg:https://godfreyspond.com/wp-content/uploads/2022/04/Closed-for-season.jpg
END:VEVENT
END:VCALENDAR