BEGIN:VCALENDAR
VERSION:2.0
PRODID:-//Welcome to Godfrey&#039;s Pond - ECPv4.7.3//NONSGML v1.0//EN
CALSCALE:GREGORIAN
METHOD:PUBLISH
X-WR-CALNAME:Welcome to Godfrey&#039;s Pond
X-ORIGINAL-URL:https://godfreyspond.com
X-WR-CALDESC:Events for Welcome to Godfrey&#039;s Pond
BEGIN:VEVENT
DTSTART;TZID=America/New_York:20250707T070000
DTEND;TZID=America/New_York:20250711T180000
DTSTAMP:20260425T105814
CREATED:20250514T141633Z
LAST-MODIFIED:20250523T083102Z
UID:6731-1751871600-1752256800@godfreyspond.com
SUMMARY:Seneca District Cub Scout Day Camp
DESCRIPTION:Pratt. Ruckle\, Vukman Pavilions & Clubhouse Reserved \n7:00am- 6:00pm \n
URL:https://godfreyspond.com/calendar/seneca-district-cub-scout-day-camp-2/
CATEGORIES:Reservations
END:VEVENT
BEGIN:VEVENT
DTSTART;TZID=America/New_York:20250711T190000
DTEND;TZID=America/New_York:20250711T203000
DTSTAMP:20260425T105814
CREATED:20250112T144426Z
LAST-MODIFIED:20250112T144426Z
UID:6291-1752260400-1752265800@godfreyspond.com
SUMMARY:General Member Meeting
DESCRIPTION:This is a meeting for Members to attend and review/discuss what’s happening around the Pond.  A great opportunity to participate and be informed on issues to be discussed and actioned.  As a membership-based organization\, we look forward to your involvement to improve the Pond and provide a wonderful place for families!  Join us in the Clubhouse! \n
URL:https://godfreyspond.com/calendar/general-member-meeting-32/
LOCATION:Godfrey’s Pond\, 7925 Godfrey’s Pond Road\, Bergen\, 14416\, United States
CATEGORIES:Meetings
ATTACH;FMTTYPE=image/png:https://godfreyspond.com/wp-content/uploads/2024/03/General-Member-Meeting.png
END:VEVENT
END:VCALENDAR