BEGIN:VCALENDAR
VERSION:2.0
PRODID:-//Welcome to Godfrey&#039;s Pond - ECPv4.7.3//NONSGML v1.0//EN
CALSCALE:GREGORIAN
METHOD:PUBLISH
X-WR-CALNAME:Welcome to Godfrey&#039;s Pond
X-ORIGINAL-URL:https://godfreyspond.com
X-WR-CALDESC:Events for Welcome to Godfrey&#039;s Pond
BEGIN:VEVENT
DTSTART;TZID=America/New_York:20251214T090000
DTEND;TZID=America/New_York:20251214T110000
DTSTAMP:20260422T232010
CREATED:20250207T155028Z
LAST-MODIFIED:20251018T154539Z
UID:6402-1765702800-1765710000@godfreyspond.com
SUMMARY:Breakfast with Santa- Clubhouse
DESCRIPTION:Breakfast with Santa- Clubhouse \nserving from 9:00am- 11:00am \n
URL:https://godfreyspond.com/calendar/breakfast-with-santa-clubhouse-2/
CATEGORIES:Event,Public
END:VEVENT
BEGIN:VEVENT
DTSTART;TZID=America/New_York:20251214T140000
DTEND;TZID=America/New_York:20251214T190000
DTSTAMP:20260422T232010
CREATED:20250913T134313Z
LAST-MODIFIED:20251018T154046Z
UID:7261-1765720800-1765738800@godfreyspond.com
SUMMARY:Clubhouse Reserved
DESCRIPTION:Clubhouse Reserved \nAlwardt \n2:00pm- 7:00pm \n
URL:https://godfreyspond.com/calendar/clubhouse-reserved-301/
CATEGORIES:Reservations
END:VEVENT
END:VCALENDAR