BEGIN:VCALENDAR
VERSION:2.0
PRODID:-//Welcome to Godfrey&#039;s Pond - ECPv4.7.3//NONSGML v1.0//EN
CALSCALE:GREGORIAN
METHOD:PUBLISH
X-WR-CALNAME:Welcome to Godfrey&#039;s Pond
X-ORIGINAL-URL:https://godfreyspond.com
X-WR-CALDESC:Events for Welcome to Godfrey&#039;s Pond
BEGIN:VEVENT
DTSTART;TZID=America/New_York:20251227T090000
DTEND;TZID=America/New_York:20251227T200000
DTSTAMP:20260422T232102
CREATED:20250711T205134Z
LAST-MODIFIED:20251018T154243Z
UID:6984-1766826000-1766865600@godfreyspond.com
SUMMARY:Clubhosue Reserved
DESCRIPTION:Clubhouse Reserved \nWarren \n9:00am- 8:00pm \n
URL:https://godfreyspond.com/calendar/clubhosue-reserved/
CATEGORIES:Reservations
END:VEVENT
END:VCALENDAR