BEGIN:VCALENDAR
VERSION:2.0
PRODID:-//Welcome to Godfrey&#039;s Pond - ECPv4.7.3//NONSGML v1.0//EN
CALSCALE:GREGORIAN
METHOD:PUBLISH
X-WR-CALNAME:Welcome to Godfrey&#039;s Pond
X-ORIGINAL-URL:https://godfreyspond.com
X-WR-CALDESC:Events for Welcome to Godfrey&#039;s Pond
BEGIN:VEVENT
DTSTART;TZID=America/New_York:20260405T100000
DTEND;TZID=America/New_York:20260405T180000
DTSTAMP:20260422T154028
CREATED:20260331T111114Z
LAST-MODIFIED:20260331T111114Z
UID:7650-1775383200-1775412000@godfreyspond.com
SUMMARY:Clubhouse Reserved
DESCRIPTION:Clubhouse Reserved \n10:00am- 6:00pm \n
URL:https://godfreyspond.com/calendar/clubhouse-reserved-327/
CATEGORIES:Public,Reservations
END:VEVENT
END:VCALENDAR