BEGIN:VCALENDAR
VERSION:2.0
PRODID:-//Welcome to Godfrey&#039;s Pond - ECPv4.7.3//NONSGML v1.0//EN
CALSCALE:GREGORIAN
METHOD:PUBLISH
X-WR-CALNAME:Welcome to Godfrey&#039;s Pond
X-ORIGINAL-URL:https://godfreyspond.com
X-WR-CALDESC:Events for Welcome to Godfrey&#039;s Pond
BEGIN:VEVENT
DTSTART;VALUE=DATE:20210515
DTEND;VALUE=DATE:20210516
DTSTAMP:20260426T040009
CREATED:20210408T114850Z
LAST-MODIFIED:20210408T114850Z
UID:2667-1621036800-1621123199@godfreyspond.com
SUMMARY:Campground Open for Regular Campers
DESCRIPTION:
URL:https://godfreyspond.com/calendar/campground-open-for-regular-campers/
LOCATION:Godfrey’s Pond\, 7925 Godfrey’s Pond Road\, Bergen\, 14416\, United States
CATEGORIES:Event
END:VEVENT
END:VCALENDAR