BEGIN:VCALENDAR
VERSION:2.0
PRODID:-//Welcome to Godfrey&#039;s Pond - ECPv4.7.3//NONSGML v1.0//EN
CALSCALE:GREGORIAN
METHOD:PUBLISH
X-WR-CALNAME:Welcome to Godfrey&#039;s Pond
X-ORIGINAL-URL:https://godfreyspond.com
X-WR-CALDESC:Events for Welcome to Godfrey&#039;s Pond
BEGIN:VEVENT
DTSTART;TZID=America/New_York:20210911T100000
DTEND;TZID=America/New_York:20210911T120000
DTSTAMP:20260425T203529
CREATED:20210803T134451Z
LAST-MODIFIED:20210803T134451Z
UID:3056-1631354400-1631361600@godfreyspond.com
SUMMARY:Sidewalk Chalk Party!
DESCRIPTION:Join us for this creative and fun event!  Come down by the Pond and let’s see what creations you can make.  Snacks\, beverage and a free give-away will be provided. \n
URL:https://godfreyspond.com/calendar/sidewalk-chalk-party/
LOCATION:Godfrey’s Pond\, 7925 Godfrey’s Pond Road\, Bergen\, 14416\, United States
CATEGORIES:Event,Public
ATTACH;FMTTYPE=image/jpeg:https://godfreyspond.com/wp-content/uploads/2021/08/Chalk-Party.jpg
END:VEVENT
END:VCALENDAR