BEGIN:VCALENDAR
VERSION:2.0
PRODID:-//Welcome to Godfrey&#039;s Pond - ECPv4.7.3//NONSGML v1.0//EN
CALSCALE:GREGORIAN
METHOD:PUBLISH
X-WR-CALNAME:Welcome to Godfrey&#039;s Pond
X-ORIGINAL-URL:https://godfreyspond.com
X-WR-CALDESC:Events for Welcome to Godfrey&#039;s Pond
BEGIN:VEVENT
DTSTART;TZID=America/New_York:20210918T100000
DTEND;TZID=America/New_York:20210918T160000
DTSTAMP:20260425T203524
CREATED:20210110T193700Z
LAST-MODIFIED:20210204T185417Z
UID:2402-1631959200-1631980800@godfreyspond.com
SUMMARY:Hunting & Fishing Days - Fall Festival
DESCRIPTION:10:00am- 4:00pm \n
URL:https://godfreyspond.com/calendar/hunting-fish-days-fall-festival/
LOCATION:Godfrey’s Pond\, 7925 Godfrey’s Pond Road\, Bergen\, 14416\, United States
CATEGORIES:Event,Public
ATTACH;FMTTYPE=image/png:https://godfreyspond.com/wp-content/uploads/2019/03/hunting_fishing_web.png
END:VEVENT
END:VCALENDAR