BEGIN:VCALENDAR
VERSION:2.0
PRODID:-//Welcome to Godfrey&#039;s Pond - ECPv4.7.3//NONSGML v1.0//EN
CALSCALE:GREGORIAN
METHOD:PUBLISH
X-WR-CALNAME:Welcome to Godfrey&#039;s Pond
X-ORIGINAL-URL:https://godfreyspond.com
X-WR-CALDESC:Events for Welcome to Godfrey&#039;s Pond
BEGIN:VEVENT
DTSTART;TZID=America/New_York:20211002T173000
DTEND;TZID=America/New_York:20211002T200000
DTSTAMP:20260425T184812
CREATED:20210921T094546Z
LAST-MODIFIED:20210921T094546Z
UID:3163-1633195800-1633204800@godfreyspond.com
SUMMARY:Spooktacular Soiree!
DESCRIPTION:Campers & Residents: This is a fun event for the kids (and adults!). We’ll start off the evening with some activities\, cider and donuts then travel campsite to campsite for trick-or-treating. So campers\, you’re welcome to decorate your sites if you’d like to greet our small guests with candy (or other) as they come around!\n\nKeep your eye out on communication of other activities as they become available. Hope to see you there!\n
URL:https://godfreyspond.com/calendar/spooktacular-soiree/
LOCATION:Godfrey’s Pond\, 7925 Godfrey’s Pond Road\, Bergen\, 14416\, United States
CATEGORIES:Event
ATTACH;FMTTYPE=image/png:https://godfreyspond.com/wp-content/uploads/2021/09/Halloween-Festivities.png
END:VEVENT
BEGIN:VEVENT
DTSTART;TZID=America/New_York:20211002T180000
DTEND;TZID=America/New_York:20211002T210000
DTSTAMP:20260425T184812
CREATED:20210126T151025Z
LAST-MODIFIED:20210803T133945Z
UID:2465-1633197600-1633208400@godfreyspond.com
SUMMARY:Halloween Festivities
DESCRIPTION:Trick or Treating \nTime stating at 6:00pm \n
URL:https://godfreyspond.com/calendar/halloween-festivities/
LOCATION:Godfrey’s Pond\, 7925 Godfrey’s Pond Road\, Bergen\, 14416\, United States
CATEGORIES:Event,Public
ATTACH;FMTTYPE=image/jpeg:https://godfreyspond.com/wp-content/uploads/2020/03/Halloween-Walk.jpg
END:VEVENT
END:VCALENDAR