BEGIN:VCALENDAR
VERSION:2.0
PRODID:-//Welcome to Godfrey&#039;s Pond - ECPv4.7.3//NONSGML v1.0//EN
CALSCALE:GREGORIAN
METHOD:PUBLISH
X-WR-CALNAME:Welcome to Godfrey&#039;s Pond
X-ORIGINAL-URL:https://godfreyspond.com
X-WR-CALDESC:Events for Welcome to Godfrey&#039;s Pond
BEGIN:VEVENT
DTSTART;TZID=America/New_York:20220619T110000
DTEND;TZID=America/New_York:20220619T140000
DTSTAMP:20260425T035336
CREATED:20220115T162421Z
LAST-MODIFIED:20220506T115824Z
UID:3438-1655636400-1655647200@godfreyspond.com
SUMMARY:Father's Day Chicken BBQ
DESCRIPTION:This delicious dinner\, made by Chiavetta’s out of Lockport\, NY\, is our annual celebration to Father’s!  This meal includes chicken\, salt potatoes\, macaroni salad\, rolls & butter.  The dinner’s can be to-go or you can dine in the Clubhouse. \nPre-Sale Tickets:  $13.00.  Must be purchased by Saturday\, June 11.  Tickets can be purchased on-line through website (www.godfreyspond.com) or in the Main Office. \nTickets at the door:  $15.00 \n
URL:https://godfreyspond.com/calendar/fathers-day-chicken-bbq-to-go-only/
LOCATION:Godfrey’s Pond\, 7925 Godfrey’s Pond Road\, Bergen\, 14416\, United States
CATEGORIES:Event,Public
ATTACH;FMTTYPE=image/jpeg:https://godfreyspond.com/wp-content/uploads/2022/01/Chiavettas.jpg
END:VEVENT
BEGIN:VEVENT
DTSTART;TZID=America/New_York:20220619T120000
DTEND;TZID=America/New_York:20220619T170000
DTSTAMP:20260425T035336
CREATED:20220216T172322Z
LAST-MODIFIED:20220525T105348Z
UID:3562-1655640000-1655658000@godfreyspond.com
SUMMARY:Godfrey's Pond Open House!
DESCRIPTION:Open House \n
URL:https://godfreyspond.com/calendar/open-house-2/
CATEGORIES:Event,Public
END:VEVENT
END:VCALENDAR