BEGIN:VCALENDAR
VERSION:2.0
PRODID:-//Welcome to Godfrey&#039;s Pond - ECPv4.7.3//NONSGML v1.0//EN
CALSCALE:GREGORIAN
METHOD:PUBLISH
X-WR-CALNAME:Welcome to Godfrey&#039;s Pond
X-ORIGINAL-URL:https://godfreyspond.com
X-WR-CALDESC:Events for Welcome to Godfrey&#039;s Pond
BEGIN:VEVENT
DTSTART;TZID=America/New_York:20220730T100000
DTEND;TZID=America/New_York:20220730T113000
DTSTAMP:20260425T021904
CREATED:20220216T172754Z
LAST-MODIFIED:20220429T135043Z
UID:3570-1659175200-1659180600@godfreyspond.com
SUMMARY:Conservation Kids!
DESCRIPTION:This event for kids and their families in the Camp B Pavilion will feature a conservation topic important to our initiative at Godfrey’s Pond.  Watch for flyers\, website and Social Media as the date approaches. \n
URL:https://godfreyspond.com/calendar/conservation-events/
LOCATION:Godfrey’s Pond\, 7925 Godfrey’s Pond Road\, Bergen\, 14416\, United States
CATEGORIES:Event
ATTACH;FMTTYPE=image/jpeg:https://godfreyspond.com/wp-content/uploads/2022/02/Conservation-Kids.jpg
END:VEVENT
END:VCALENDAR