BEGIN:VCALENDAR
VERSION:2.0
PRODID:-//Welcome to Godfrey&#039;s Pond - ECPv4.7.3//NONSGML v1.0//EN
CALSCALE:GREGORIAN
METHOD:PUBLISH
X-WR-CALNAME:Welcome to Godfrey&#039;s Pond
X-ORIGINAL-URL:https://godfreyspond.com
X-WR-CALDESC:Events for Welcome to Godfrey&#039;s Pond
BEGIN:VEVENT
DTSTART;TZID=America/New_York:20220806T180000
DTEND;TZID=America/New_York:20220806T210000
DTSTAMP:20260425T004155
CREATED:20220218T164428Z
LAST-MODIFIED:20220429T135419Z
UID:3578-1659808800-1659819600@godfreyspond.com
SUMMARY:Hawaiian Nite!
DESCRIPTION:Let’s do a Luau!  This first-time event at the Pond promises to be a great time!  Lots of activities are being planned!  Save the date and watch for flyers\, website and Social Media as the date approaches.  Location to be determined. \n
URL:https://godfreyspond.com/calendar/hawaiian-nite/
LOCATION:Godfrey’s Pond\, 7925 Godfrey’s Pond Road\, Bergen\, 14416\, United States
CATEGORIES:Event
ATTACH;FMTTYPE=image/jpeg:https://godfreyspond.com/wp-content/uploads/2022/02/Hawaiian-Nite.jpg
END:VEVENT
END:VCALENDAR