BEGIN:VCALENDAR
VERSION:2.0
PRODID:-//Welcome to Godfrey&#039;s Pond - ECPv4.7.3//NONSGML v1.0//EN
CALSCALE:GREGORIAN
METHOD:PUBLISH
X-WR-CALNAME:Welcome to Godfrey&#039;s Pond
X-ORIGINAL-URL:https://godfreyspond.com
X-WR-CALDESC:Events for Welcome to Godfrey&#039;s Pond
BEGIN:VEVENT
DTSTART;VALUE=DATE:20221113
DTEND;VALUE=DATE:20221114
DTSTAMP:20260424T192103
CREATED:20220218T170029Z
LAST-MODIFIED:20221007T140153Z
UID:3586-1668297600-1668383999@godfreyspond.com
SUMMARY:Godfrey's Pond Thanksgiving Dinner
DESCRIPTION:Campers & Residents: Join us as in the Clubhouse as we gather together at 2:00 p.m. to give thanks for a happy and healthy summer season at the Pond. Great events\, camping\, picnics\, campfires and so much more with memories that were made with our family and friends.\n\nAt our dinner\, we are looking for 2 turkeys\, ham and all the trimmings! Let us know how many in your family will be attending and what you can bring as a dish-to-pass by reaching out to Donna Bobzin at 585-750-3327 (call or text).\n\nWe look forward to sharing a meal with you and your family!\n
URL:https://godfreyspond.com/calendar/clubhouse-reserved-thanksgiving/
LOCATION:Godfrey’s Pond\, 7925 Godfrey’s Pond Road\, Bergen\, 14416\, United States
CATEGORIES:Event,Reservations
ATTACH;FMTTYPE=image/png:https://godfreyspond.com/wp-content/uploads/2022/02/Thanksgiving-Dinner.png
END:VEVENT
END:VCALENDAR