BEGIN:VCALENDAR
VERSION:2.0
PRODID:-//Welcome to Godfrey&#039;s Pond - ECPv4.7.3//NONSGML v1.0//EN
CALSCALE:GREGORIAN
METHOD:PUBLISH
X-WR-CALNAME:Welcome to Godfrey&#039;s Pond
X-ORIGINAL-URL:https://godfreyspond.com
X-WR-CALDESC:Events for Welcome to Godfrey&#039;s Pond
BEGIN:VEVENT
DTSTART;TZID=America/New_York:20231210T090000
DTEND;TZID=America/New_York:20231210T110000
DTSTAMP:20260421T131330
CREATED:20230811T003042Z
LAST-MODIFIED:20231116T131105Z
UID:4759-1702198800-1702206000@godfreyspond.com
SUMMARY:Breakfast with Santa!
DESCRIPTION:We love this fun annual event and we hope you do too! Come join us for a delicious breakfast of pancakes\, eggs\, sausage\, beverages\, Christmas crafts\, Christmas stockings\, a special Christmas story and of course a visit from Santa himself! Don’t miss it – see you there! \n
URL:https://godfreyspond.com/calendar/breakfast-with-santa-2/
LOCATION:Godfrey’s Pond\, 7925 Godfrey’s Pond Road\, Bergen\, 14416\, United States
CATEGORIES:Event
ATTACH;FMTTYPE=image/png:https://godfreyspond.com/wp-content/uploads/2023/11/GP-Breakfast-with-Santa.png
END:VEVENT
END:VCALENDAR