BEGIN:VCALENDAR
VERSION:2.0
PRODID:-//Welcome to Godfrey&#039;s Pond - ECPv4.7.3//NONSGML v1.0//EN
CALSCALE:GREGORIAN
METHOD:PUBLISH
X-WR-CALNAME:Welcome to Godfrey&#039;s Pond
X-ORIGINAL-URL:https://godfreyspond.com
X-WR-CALDESC:Events for Welcome to Godfrey&#039;s Pond
BEGIN:VEVENT
DTSTART;TZID=America/New_York:20240303T080000
DTEND;TZID=America/New_York:20240303T110000
DTSTAMP:20260421T054440
CREATED:20231116T132534Z
LAST-MODIFIED:20240110T162048Z
UID:4961-1709452800-1709463600@godfreyspond.com
SUMMARY:First Spring Pancake Breakfast!
DESCRIPTION:Members and Families:  Here’s your first chance to take a drive out to Godfrey’s Pond to enjoy the winter views and have a comforting pancake breakfast!  Breakfast will include pancakes\, eggs\, sausage\, fruit and beverages.  It also is an opportunity to taste the homemade maple syrup made right on our property!  Hope to see you there! \n
URL:https://godfreyspond.com/calendar/first-spring-pancake-breakfast/
LOCATION:Godfrey’s Pond\, 7925 Godfrey’s Pond Road\, Bergen\, 14416\, United States
CATEGORIES:Event,Public
ATTACH;FMTTYPE=image/jpeg:https://godfreyspond.com/wp-content/uploads/2023/11/Pancakes-2.jpg
END:VEVENT
END:VCALENDAR