BEGIN:VCALENDAR
VERSION:2.0
PRODID:-//Welcome to Godfrey&#039;s Pond - ECPv4.7.3//NONSGML v1.0//EN
CALSCALE:GREGORIAN
METHOD:PUBLISH
X-WR-CALNAME:Welcome to Godfrey&#039;s Pond
X-ORIGINAL-URL:https://godfreyspond.com
X-WR-CALDESC:Events for Welcome to Godfrey&#039;s Pond
BEGIN:VEVENT
DTSTART;VALUE=DATE:20240319
DTEND;VALUE=DATE:20240320
DTSTAMP:20260421T054402
CREATED:20240319T180130Z
LAST-MODIFIED:20240319T180130Z
UID:5396-1710806400-1710892799@godfreyspond.com
SUMMARY:Camp Closes!
DESCRIPTION:We’re sorry to have to close for the season but are sure you’ve created some fun memories with your family and friends.  We look forward to seeing you again next season! \n
URL:https://godfreyspond.com/calendar/camp-closes/
LOCATION:Godfrey’s Pond\, 7925 Godfrey’s Pond Road\, Bergen\, 14416\, United States
CATEGORIES:Event
END:VEVENT
END:VCALENDAR