BEGIN:VCALENDAR
VERSION:2.0
PRODID:-//Welcome to Godfrey&#039;s Pond - ECPv4.7.3//NONSGML v1.0//EN
CALSCALE:GREGORIAN
METHOD:PUBLISH
X-WR-CALNAME:Welcome to Godfrey&#039;s Pond
X-ORIGINAL-URL:https://godfreyspond.com
X-WR-CALDESC:Events for Welcome to Godfrey&#039;s Pond
BEGIN:VEVENT
DTSTART;TZID=America/New_York:20240408T130000
DTEND;TZID=America/New_York:20240408T160000
DTSTAMP:20260421T034515
CREATED:20240202T023022Z
LAST-MODIFIED:20240312T205458Z
UID:5150-1712581200-1712592000@godfreyspond.com
SUMMARY:Solar Eclipse Event!
DESCRIPTION:Where: Pond Overlook in Camp A (weather permitting) or in Clubhouse\n\nJoin us for this amazing and unique event in America’s history! Did you know that this is the last great opportunity for our country to experience a total solar eclipse until 2045? Batavia\, NY\, sits in the center of the path of totality and it’s the place you and your family will want to be! Have lunch with us and watch the Eclipse! Times are as follows:\n\n2:05 p.m. – Eclipse Begins\n3:19 p.m. – Totality starts and lasts for 3 minutes and 42 seconds\n4:34 p.m. – Eclipse Ends\n\nWe will have certified solar glasses available and they’re free with purchase of a meal or for $1.00 each without the meal. Food will be served from 1:00 – 4:00 p.m. at the Snack Shack.\n\nCheeseburgers: $4.00\nHot Dogs: $3.00\nFrench Fries: $2.00\nWater: $1.00\n\nAt this event we will be announcing the winner of our $5.00 Raffle that was conducted at the Pancake Breakfast on Sunday\, March 3.\n
URL:https://godfreyspond.com/calendar/solar-eclipse-event-at-clubhouse/
LOCATION:Godfrey’s Pond\, 7925 Godfrey’s Pond Road\, Bergen\, 14416\, United States
CATEGORIES:Event,Public
ATTACH;FMTTYPE=image/png:https://godfreyspond.com/wp-content/uploads/2024/02/GP-Solar-Eclipse.png
END:VEVENT
END:VCALENDAR