BEGIN:VCALENDAR
VERSION:2.0
PRODID:-//Welcome to Godfrey&#039;s Pond - ECPv4.7.3//NONSGML v1.0//EN
CALSCALE:GREGORIAN
METHOD:PUBLISH
X-WR-CALNAME:Welcome to Godfrey&#039;s Pond
X-ORIGINAL-URL:https://godfreyspond.com
X-WR-CALDESC:Events for Welcome to Godfrey&#039;s Pond
BEGIN:VEVENT
DTSTART;VALUE=DATE:20240427
DTEND;VALUE=DATE:20240428
DTSTAMP:20260421T034505
CREATED:20231116T134205Z
LAST-MODIFIED:20240312T152135Z
UID:4971-1714176000-1714262399@godfreyspond.com
SUMMARY:Camp Clean-Up Day!
DESCRIPTION:Campers:  Mark your calendars!  This day is designated for you to come clean-up your campsite and the grounds in and around Godfrey’s Pond.  We will have lots of winter debris to pickup so we could sure use your help!  Rain Date:  April 28. \nAt 1:00 p.m.\, there will be a “Cookout by Lonnie!” over at Lonnie’s campsite.  Hotdogs\, chips and a dish-to-pass (optional).  Bring a beverage! \n
URL:https://godfreyspond.com/calendar/camp-clean-up-day/
LOCATION:Godfrey’s Pond\, 7925 Godfrey’s Pond Road\, Bergen\, 14416\, United States
CATEGORIES:Event
ATTACH;FMTTYPE=image/jpeg:https://godfreyspond.com/wp-content/uploads/2023/11/Groundskeeper-2.jpg
END:VEVENT
BEGIN:VEVENT
DTSTART;TZID=America/New_York:20240427T130000
DTEND;TZID=America/New_York:20240427T143000
DTSTAMP:20260421T034505
CREATED:20240312T152854Z
LAST-MODIFIED:20240416T130723Z
UID:5279-1714222800-1714228200@godfreyspond.com
SUMMARY:Lunch with Lonnie!
DESCRIPTION:For Member Volunteers on the grounds at Camp Clean-Up Day\, there will be hotdogs\, chips and bring a dish-to-pass (optional) and a beverage over at Lonnie’s campsite at B-30. \nJoin us after lunch for a brief tree-planting ceremony to celebrate National Arbor Day.  Bring the kids! \n
URL:https://godfreyspond.com/calendar/lunch-with-lonnie/
LOCATION:Godfrey’s Pond\, 7925 Godfrey’s Pond Road\, Bergen\, 14416\, United States
CATEGORIES:Event
ATTACH;FMTTYPE=image/png:https://godfreyspond.com/wp-content/uploads/2024/03/GP-Grilled-Hotdogs.png
END:VEVENT
END:VCALENDAR