BEGIN:VCALENDAR
VERSION:2.0
PRODID:-//Welcome to Godfrey&#039;s Pond - ECPv4.7.3//NONSGML v1.0//EN
CALSCALE:GREGORIAN
METHOD:PUBLISH
X-WR-CALNAME:Welcome to Godfrey&#039;s Pond
X-ORIGINAL-URL:https://godfreyspond.com
X-WR-CALDESC:Events for Welcome to Godfrey&#039;s Pond
BEGIN:VEVENT
DTSTART;VALUE=DATE:20240518
DTEND;VALUE=DATE:20240519
DTSTAMP:20260421T015742
CREATED:20231116T135115Z
LAST-MODIFIED:20240312T153531Z
UID:4979-1715990400-1716076799@godfreyspond.com
SUMMARY:Move-In Day for ALL Campers!
DESCRIPTION:Campers:  Join us for this second stage of moving in for the camping season!  This is your opportunity to come all day and set up your campsite.  We look forward to seeing you! \n
URL:https://godfreyspond.com/calendar/move-in-day-for-all-campers/
LOCATION:Godfrey’s Pond\, 7925 Godfrey’s Pond Road\, Bergen\, 14416\, United States
CATEGORIES:Event
ATTACH;FMTTYPE=image/jpeg:https://godfreyspond.com/wp-content/uploads/2023/11/Camping.jpg
END:VEVENT
END:VCALENDAR