BEGIN:VCALENDAR
VERSION:2.0
PRODID:-//Welcome to Godfrey&#039;s Pond - ECPv4.7.3//NONSGML v1.0//EN
CALSCALE:GREGORIAN
METHOD:PUBLISH
X-WR-CALNAME:Welcome to Godfrey&#039;s Pond
X-ORIGINAL-URL:https://godfreyspond.com
X-WR-CALDESC:Events for Welcome to Godfrey&#039;s Pond
BEGIN:VEVENT
DTSTART;TZID=America/New_York:20240526T100000
DTEND;TZID=America/New_York:20240526T170000
DTSTAMP:20260421T034818
CREATED:20231116T140710Z
LAST-MODIFIED:20240312T205736Z
UID:4990-1716717600-1716742800@godfreyspond.com
SUMMARY:Memorial Day Open House and Cookout!
DESCRIPTION:Members and Families:  Join us for our annual Memorial Day Open House and a delicious cookout of hotdogs\, hamburgers\, fries and beverages down at the Pond Snack Shack to celebrate Memorial Day! \nOpen House:  10:00 a.m. to 5:00 p.m. (all grounds) \nCookout at Snack Shack:  11:00 a.m. to 3:00 p.m. \n
URL:https://godfreyspond.com/calendar/memorial-weekend-cookout/
LOCATION:Godfrey’s Pond\, 7925 Godfrey’s Pond Road\, Bergen\, 14416\, United States
CATEGORIES:Event,Public
ATTACH;FMTTYPE=image/png:https://godfreyspond.com/wp-content/uploads/2023/11/GP-Memorial-Day-Open-House.png
END:VEVENT
BEGIN:VEVENT
DTSTART;TZID=America/New_York:20240526T100000
DTEND;TZID=America/New_York:20240526T120000
DTSTAMP:20260421T034818
CREATED:20240516T125742Z
LAST-MODIFIED:20240516T125742Z
UID:5566-1716717600-1716724800@godfreyspond.com
SUMMARY:Rimfire Riot Shoot
DESCRIPTION:FOR MEMBERS ONLY: This first Shoot of 2024 will take place at the Rifle Range. Only bolt action\, lever action and pump action Rimfire Rifles with open sights will be allowed. Optics and semi-autos are NOT allowed. 1st\, 2nd and 3rd prizes will be given.\nEar and eye protection are optional – always practice gun safety rules. Hope to see you there!\n
URL:https://godfreyspond.com/calendar/rimfire-riot-shoot/
LOCATION:Godfrey’s Pond\, 7925 Godfrey’s Pond Road\, Bergen\, 14416\, United States
CATEGORIES:Event
ATTACH;FMTTYPE=image/png:https://godfreyspond.com/wp-content/uploads/2024/04/GP-Rimfire-Riot-Shoot.png
END:VEVENT
END:VCALENDAR