BEGIN:VCALENDAR
VERSION:2.0
PRODID:-//Welcome to Godfrey&#039;s Pond - ECPv4.7.3//NONSGML v1.0//EN
CALSCALE:GREGORIAN
METHOD:PUBLISH
X-WR-CALNAME:Welcome to Godfrey&#039;s Pond
X-ORIGINAL-URL:https://godfreyspond.com
X-WR-CALDESC:Events for Welcome to Godfrey&#039;s Pond
BEGIN:VEVENT
DTSTART;TZID=America/New_York:20240608T130000
DTEND;TZID=America/New_York:20240608T160000
DTSTAMP:20260421T001117
CREATED:20231116T134917Z
LAST-MODIFIED:20240312T210106Z
UID:4976-1717851600-1717862400@godfreyspond.com
SUMMARY:Beef-on-Weck Dinner!
DESCRIPTION:NEW EVENT:  Come check out the Beef-on-Weck dinner.  Watch for more details as the date approaches. \n
URL:https://godfreyspond.com/calendar/mothers-day-beef-on-weck-dinner/
LOCATION:Godfrey’s Pond\, 7925 Godfrey’s Pond Road\, Bergen\, 14416\, United States
CATEGORIES:Event,Public
ATTACH;FMTTYPE=image/jpeg:https://godfreyspond.com/wp-content/uploads/2023/11/Beef-on-Weck.jpg
END:VEVENT
END:VCALENDAR