BEGIN:VCALENDAR
VERSION:2.0
PRODID:-//Welcome to Godfrey&#039;s Pond - ECPv4.7.3//NONSGML v1.0//EN
CALSCALE:GREGORIAN
METHOD:PUBLISH
X-WR-CALNAME:Welcome to Godfrey&#039;s Pond
X-ORIGINAL-URL:https://godfreyspond.com
X-WR-CALDESC:Events for Welcome to Godfrey&#039;s Pond
BEGIN:VEVENT
DTSTART;VALUE=DATE:20240616
DTEND;VALUE=DATE:20240617
DTSTAMP:20260421T001126
CREATED:20231116T141631Z
LAST-MODIFIED:20240527T222945Z
UID:4998-1718496000-1718582399@godfreyspond.com
SUMMARY:Father's Day Open House & Chicken BBQ!
DESCRIPTION:PUBLIC:  Join us for this event throughout the day to visit Godfrey’s Pond and all it has to offer.  Take a tour\, sign-up to camp\, fish\, walk the trails\, enjoy the nature and so much more! \nDon’t forget to participate in our fundraiser for all Father’s out there with a Chiavetta’s Chicken BBQ dinner.  Cost:  $14.00 which includes\, 1/2 Chicken\, Salt Potatoes\, Baked Beans\, Roll & Butter.  There will also be a Bake Sale for you to choose a dessert! \nOpen House:  10:00 a.m. to 5:00 p.m. \nBBQ will be served (takeout or eat-in) from 11:00 a.m. to 2:00 p.m. \n
URL:https://godfreyspond.com/calendar/open-house-and-fathers-day-chicken-bbq/
LOCATION:Godfrey’s Pond\, 7925 Godfrey’s Pond Road\, Bergen\, 14416\, United States
CATEGORIES:Event,Public
ATTACH;FMTTYPE=image/png:https://godfreyspond.com/wp-content/uploads/2024/05/GP-Open-House-6.15.2024-2.png
END:VEVENT
END:VCALENDAR