BEGIN:VCALENDAR
VERSION:2.0
PRODID:-//Welcome to Godfrey&#039;s Pond - ECPv4.7.3//NONSGML v1.0//EN
CALSCALE:GREGORIAN
METHOD:PUBLISH
X-WR-CALNAME:Welcome to Godfrey&#039;s Pond
X-ORIGINAL-URL:https://godfreyspond.com
X-WR-CALDESC:Events for Welcome to Godfrey&#039;s Pond
BEGIN:VEVENT
DTSTART;TZID=America/New_York:20240705T200000
DTEND;TZID=America/New_York:20240705T213000
DTSTAMP:20260421T001124
CREATED:20231116T142127Z
LAST-MODIFIED:20240312T164956Z
UID:5004-1720209600-1720215000@godfreyspond.com
SUMMARY:Movie Night!
DESCRIPTION:Meet us down by the Pond Snack Shack for Movie Night!  (Movie to be determined)  Snacks and beverages will be available for purchase.  Bring comfy chairs\, etc. \n
URL:https://godfreyspond.com/calendar/movie-night-3/
LOCATION:Godfrey’s Pond\, 7925 Godfrey’s Pond Road\, Bergen\, 14416\, United States
CATEGORIES:Event
ATTACH;FMTTYPE=image/gif:https://godfreyspond.com/wp-content/uploads/2023/11/Movie-Night.gif
END:VEVENT
END:VCALENDAR