BEGIN:VCALENDAR
VERSION:2.0
PRODID:-//Welcome to Godfrey&#039;s Pond - ECPv4.7.3//NONSGML v1.0//EN
CALSCALE:GREGORIAN
METHOD:PUBLISH
X-WR-CALNAME:Welcome to Godfrey&#039;s Pond
X-ORIGINAL-URL:https://godfreyspond.com
X-WR-CALDESC:Events for Welcome to Godfrey&#039;s Pond
BEGIN:VEVENT
DTSTART;TZID=America/New_York:20240707T110000
DTEND;TZID=America/New_York:20240707T150000
DTSTAMP:20260420T221505
CREATED:20240312T165847Z
LAST-MODIFIED:20240312T204600Z
UID:5305-1720350000-1720364400@godfreyspond.com
SUMMARY:4th of July Cookout!
DESCRIPTION:Join us for this delicious cookout down by the Snack Shack!  Hotdogs\, hamburgers\, french fries and beverages. \n
URL:https://godfreyspond.com/calendar/4th-of-july-cookout/
LOCATION:Godfrey’s Pond\, 7925 Godfrey’s Pond Road\, Bergen\, 14416\, United States
CATEGORIES:Event
ATTACH;FMTTYPE=image/png:https://godfreyspond.com/wp-content/uploads/2024/03/GP-Grilled-Hotdogs.png
END:VEVENT
END:VCALENDAR