BEGIN:VCALENDAR
VERSION:2.0
PRODID:-//Welcome to Godfrey&#039;s Pond - ECPv4.7.3//NONSGML v1.0//EN
CALSCALE:GREGORIAN
METHOD:PUBLISH
X-WR-CALNAME:Welcome to Godfrey&#039;s Pond
X-ORIGINAL-URL:https://godfreyspond.com
X-WR-CALDESC:Events for Welcome to Godfrey&#039;s Pond
BEGIN:VEVENT
DTSTART;TZID=America/New_York:20240727T170000
DTEND;TZID=America/New_York:20240727T183000
DTSTAMP:20260420T221537
CREATED:20231116T142922Z
LAST-MODIFIED:20240312T170633Z
UID:5011-1722099600-1722105000@godfreyspond.com
SUMMARY:Member's Potluck Dinner!
DESCRIPTION:Of course who doesn’t love a potluck dinner?  Join us in the Clubhouse for a wonderful variety of food made by our Member cooks!  Bring a dish-to-pass for your family and we’ll provide beverages and place settings.  See you then! \n
URL:https://godfreyspond.com/calendar/members-potluck-dinner/
LOCATION:Godfrey’s Pond\, 7925 Godfrey’s Pond Road\, Bergen\, 14416\, United States
CATEGORIES:Event
ATTACH;FMTTYPE=image/jpeg:https://godfreyspond.com/wp-content/uploads/2023/11/Potluck.jpg
END:VEVENT
END:VCALENDAR