BEGIN:VCALENDAR
VERSION:2.0
PRODID:-//Welcome to Godfrey&#039;s Pond - ECPv4.7.3//NONSGML v1.0//EN
CALSCALE:GREGORIAN
METHOD:PUBLISH
X-WR-CALNAME:Welcome to Godfrey&#039;s Pond
X-ORIGINAL-URL:https://godfreyspond.com
X-WR-CALDESC:Events for Welcome to Godfrey&#039;s Pond
BEGIN:VEVENT
DTSTART;TZID=America/New_York:20240817T100000
DTEND;TZID=America/New_York:20240817T110000
DTSTAMP:20260420T202329
CREATED:20231116T143423Z
LAST-MODIFIED:20240731T183839Z
UID:5016-1723888800-1723892400@godfreyspond.com
SUMMARY:Conservation Kids Event!
DESCRIPTION:Another conservation event geared towards the kids learning about conservation and how it is so important to Godfrey’s Pond.  Make sure you save the date and time!  The event will be at Camp B Pavilion. \n
URL:https://godfreyspond.com/calendar/conservation-kids-event-4/
LOCATION:Godfrey’s Pond\, 7925 Godfrey’s Pond Road\, Bergen\, 14416\, United States
CATEGORIES:Event
ATTACH;FMTTYPE=image/jpeg:https://godfreyspond.com/wp-content/uploads/2023/11/Conservation-Kids.jpg
END:VEVENT
BEGIN:VEVENT
DTSTART;TZID=America/New_York:20240817T160000
DTEND;TZID=America/New_York:20240817T210000
DTSTAMP:20260420T202329
CREATED:20231116T143731Z
LAST-MODIFIED:20240806T135957Z
UID:5018-1723910400-1723928400@godfreyspond.com
SUMMARY:Godfrey's Pond Kids Carnival in Memory of Ron Drock!
DESCRIPTION:You don’t want to miss this fun and exciting event! Come join us down in Camp B for an evening full of Carnival games and food as well as some raffles. This event is FREE with purchased tickets for food and drink.\nWe are offering families food/drink tickets – 25 for $20 or purchase them individually.\n\n\n\n
URL:https://godfreyspond.com/calendar/fun-in-the-sun-fair/
LOCATION:Godfrey’s Pond\, 7925 Godfrey’s Pond Road\, Bergen\, 14416\, United States
CATEGORIES:Event
ATTACH;FMTTYPE=image/png:https://godfreyspond.com/wp-content/uploads/2023/11/Fun-in-the-Sun.png
END:VEVENT
END:VCALENDAR