BEGIN:VCALENDAR
VERSION:2.0
PRODID:-//Welcome to Godfrey&#039;s Pond - ECPv4.7.3//NONSGML v1.0//EN
CALSCALE:GREGORIAN
METHOD:PUBLISH
X-WR-CALNAME:Welcome to Godfrey&#039;s Pond
X-ORIGINAL-URL:https://godfreyspond.com
X-WR-CALDESC:Events for Welcome to Godfrey&#039;s Pond
BEGIN:VEVENT
DTSTART;TZID=America/New_York:20240902T090000
DTEND;TZID=America/New_York:20240902T110000
DTSTAMP:20260420T183540
CREATED:20240901T151409Z
LAST-MODIFIED:20240901T151409Z
UID:5970-1725267600-1725274800@godfreyspond.com
SUMMARY:Oakfield Labor Daze Parade!
DESCRIPTION:What a great privilege and opportunity for us to be a part of Oakfield’s Labor Daze Parade on Monday\, September 2 at 10:00 a.m.! We’d love to have your participation\, as members\, to promote Godfrey’s Pond and all that we have to offer. Bring the kiddos\, dress up and walk with us! Please meet us at the Elementary School at 9:00 a.m. for parade line-up. See details below. Let’s be a part of the community and bring awareness to Godfrey’s Pond! \n  \n
URL:https://godfreyspond.com/calendar/oakfield-labor-daze-parade/
LOCATION:Oakfield Elementary School
CATEGORIES:Event
ATTACH;FMTTYPE=image/png:https://godfreyspond.com/wp-content/uploads/2024/08/GP-Oakfield-Labor-Day-Parade.png
END:VEVENT
END:VCALENDAR