BEGIN:VCALENDAR
VERSION:2.0
PRODID:-//Welcome to Godfrey&#039;s Pond - ECPv4.7.3//NONSGML v1.0//EN
CALSCALE:GREGORIAN
METHOD:PUBLISH
X-WR-CALNAME:Welcome to Godfrey&#039;s Pond
X-ORIGINAL-URL:https://godfreyspond.com
X-WR-CALDESC:Events for Welcome to Godfrey&#039;s Pond
BEGIN:VEVENT
DTSTART;TZID=America/New_York:20241005T130000
DTEND;TZID=America/New_York:20241005T210000
DTSTAMP:20260420T163226
CREATED:20240319T175138Z
LAST-MODIFIED:20240927T091416Z
UID:5390-1728133200-1728162000@godfreyspond.com
SUMMARY:Halloween Festivities!
DESCRIPTION:A fun day for celebrating Halloween that will be family-friendly!  Here is a listing of events: \n\n                \n\n\n\n
URL:https://godfreyspond.com/calendar/halloween-festivities-3/
LOCATION:Godfrey’s Pond\, 7925 Godfrey’s Pond Road\, Bergen\, 14416\, United States
CATEGORIES:Event
ATTACH;FMTTYPE=image/jpeg:https://godfreyspond.com/wp-content/uploads/2024/03/Halloween.jpg
END:VEVENT
END:VCALENDAR