BEGIN:VCALENDAR
VERSION:2.0
PRODID:-//Welcome to Godfrey&#039;s Pond - ECPv4.7.3//NONSGML v1.0//EN
CALSCALE:GREGORIAN
METHOD:PUBLISH
X-WR-CALNAME:Welcome to Godfrey&#039;s Pond
X-ORIGINAL-URL:https://godfreyspond.com
X-WR-CALDESC:Events for Welcome to Godfrey&#039;s Pond
BEGIN:VEVENT
DTSTART;TZID=America/New_York:20241208T090000
DTEND;TZID=America/New_York:20241208T110000
DTSTAMP:20260420T082915
CREATED:20240319T181000Z
LAST-MODIFIED:20241125T121735Z
UID:5400-1733648400-1733655600@godfreyspond.com
SUMMARY:Breakfast with Santa!
DESCRIPTION:An annual family event that is well liked and delicious!  Have a wonderful breakfast of eggs\, pancakes\, sausage\, bacon\, homemade maple syrup\, fruit cups and beverages.  Enjoy a visit from Santa with a special gift for all.  A great photo opportunity!  More details as the date approaches. \n
URL:https://godfreyspond.com/calendar/breakfast-with-santa-3/
LOCATION:Godfrey’s Pond\, 7925 Godfrey’s Pond Road\, Bergen\, 14416\, United States
CATEGORIES:Event,Public
ATTACH;FMTTYPE=image/jpeg:https://godfreyspond.com/wp-content/uploads/2024/03/Breakfast-with-sAnta.jpg
END:VEVENT
END:VCALENDAR