BEGIN:VCALENDAR
VERSION:2.0
PRODID:-//Welcome to Godfrey&#039;s Pond - ECPv4.7.3//NONSGML v1.0//EN
CALSCALE:GREGORIAN
METHOD:PUBLISH
X-WR-CALNAME:Welcome to Godfrey&#039;s Pond
X-ORIGINAL-URL:https://godfreyspond.com
X-WR-CALDESC:Events for Welcome to Godfrey&#039;s Pond
BEGIN:VEVENT
DTSTART;TZID=America/New_York:20250820T190000
DTEND;TZID=America/New_York:20250820T204500
DTSTAMP:20260421T160447
CREATED:20250112T152333Z
LAST-MODIFIED:20250112T152333Z
UID:6320-1755716400-1755722700@godfreyspond.com
SUMMARY:Board Member Meeting
DESCRIPTION:This meeting is for all the Executive leadership board and Directors to review any issues or topics that need to be reviewed and discussed to continue the business of the Pond. \n
URL:https://godfreyspond.com/calendar/board-member-meeting-18/
LOCATION:Godfrey’s Pond\, 7925 Godfrey’s Pond Road\, Bergen\, 14416\, United States
CATEGORIES:Meetings
ATTACH;FMTTYPE=image/png:https://godfreyspond.com/wp-content/uploads/2024/03/Board-and-Committee-Chairpersons.png
END:VEVENT
END:VCALENDAR