BEGIN:VCALENDAR
VERSION:2.0
PRODID:-//Welcome to Godfrey&#039;s Pond - ECPv4.7.3//NONSGML v1.0//EN
CALSCALE:GREGORIAN
METHOD:PUBLISH
X-WR-CALNAME:Welcome to Godfrey&#039;s Pond
X-ORIGINAL-URL:https://godfreyspond.com
X-WR-CALDESC:Events for Welcome to Godfrey&#039;s Pond
BEGIN:VEVENT
DTSTART;TZID=America/New_York:20250621T110000
DTEND;TZID=America/New_York:20250621T190000
DTSTAMP:20260425T124800
CREATED:20250113T191757Z
LAST-MODIFIED:20250429T205658Z
UID:6337-1750503600-1750532400@godfreyspond.com
SUMMARY:Ruckle Pavilion Reserved
DESCRIPTION:Ruckle Pavilion Reserved \nLehsten \n11:00am- 7:00pm \n
URL:https://godfreyspond.com/calendar/ruckle-pavilion-reserved-36/
CATEGORIES:Reservations
END:VEVENT
BEGIN:VEVENT
DTSTART;TZID=America/New_York:20250621T120000
DTEND;TZID=America/New_York:20250621T180000
DTSTAMP:20260425T124800
CREATED:20250523T104540Z
LAST-MODIFIED:20250528T071129Z
UID:6791-1750507200-1750528800@godfreyspond.com
SUMMARY:Clubhouse Reserved
DESCRIPTION:Clubhouse Reserved \nOshlag \n12:00pm- 6:00pm \n
URL:https://godfreyspond.com/calendar/clubhouse-reserved-288/
CATEGORIES:Reservations
END:VEVENT
BEGIN:VEVENT
DTSTART;TZID=America/New_York:20250621T130000
DTEND;TZID=America/New_York:20250621T220000
DTSTAMP:20260425T124800
CREATED:20250614T211909Z
LAST-MODIFIED:20250619T132859Z
UID:6880-1750510800-1750543200@godfreyspond.com
SUMMARY:Pratt Pavilion Reserved
DESCRIPTION:Pratt Pavilion Reserved \nCratsley \n1:00pm- 10:00pm \n
URL:https://godfreyspond.com/calendar/pratt-pavilion-reserved-80/
CATEGORIES:Reservations
END:VEVENT
END:VCALENDAR