BEGIN:VCALENDAR
VERSION:2.0
PRODID:-//Welcome to Godfrey&#039;s Pond - ECPv4.7.3//NONSGML v1.0//EN
CALSCALE:GREGORIAN
METHOD:PUBLISH
X-WR-CALNAME:Welcome to Godfrey&#039;s Pond
X-ORIGINAL-URL:https://godfreyspond.com
X-WR-CALDESC:Events for Welcome to Godfrey&#039;s Pond
BEGIN:VEVENT
DTSTART;TZID=America/New_York:20250712T080000
DTEND;TZID=America/New_York:20250712T170000
DTSTAMP:20260425T111853
CREATED:20250214T205801Z
LAST-MODIFIED:20250429T205836Z
UID:6417-1752307200-1752339600@godfreyspond.com
SUMMARY:Pratt Pavilion Reserved
DESCRIPTION:Pratt Pavilion Reserved \nZipfel \n9:00am- 9:00pm \n
URL:https://godfreyspond.com/calendar/pratt-pavilion-reserved-70/
CATEGORIES:Reservations
END:VEVENT
BEGIN:VEVENT
DTSTART;TZID=America/New_York:20250712T120000
DTEND;TZID=America/New_York:20250712T183000
DTSTAMP:20260425T111853
CREATED:20250406T223025Z
LAST-MODIFIED:20250429T205848Z
UID:6571-1752321600-1752345000@godfreyspond.com
SUMMARY:Vukman Pavilion Reserved
DESCRIPTION:Vukman Pavilion Reserved \nWeaver \n12pm- 6pm \n
URL:https://godfreyspond.com/calendar/vukman-pavilion-reserved-37/
CATEGORIES:Reservations
END:VEVENT
BEGIN:VEVENT
DTSTART;TZID=America/New_York:20250712T120000
DTEND;TZID=America/New_York:20250712T160000
DTSTAMP:20260425T111853
CREATED:20250523T104314Z
LAST-MODIFIED:20250528T071113Z
UID:6788-1752321600-1752336000@godfreyspond.com
SUMMARY:Ruckle Pavilion Reserved
DESCRIPTION:Ruckle Pavilion Reserved \nStearns \n12:00pm- 4:00pm \n
URL:https://godfreyspond.com/calendar/ruckle-pavilion-reserved-42/
CATEGORIES:Reservations
END:VEVENT
END:VCALENDAR