BEGIN:VCALENDAR
VERSION:2.0
PRODID:-//Welcome to Godfrey&#039;s Pond - ECPv4.7.3//NONSGML v1.0//EN
CALSCALE:GREGORIAN
METHOD:PUBLISH
X-WR-CALNAME:Welcome to Godfrey&#039;s Pond
X-ORIGINAL-URL:https://godfreyspond.com
X-WR-CALDESC:Events for Welcome to Godfrey&#039;s Pond
BEGIN:VEVENT
DTSTART;TZID=America/New_York:20251231T160000
DTEND;TZID=America/New_York:20251231T233000
DTSTAMP:20260422T200333
CREATED:20251224T191553Z
LAST-MODIFIED:20251224T191553Z
UID:7317-1767196800-1767223800@godfreyspond.com
SUMMARY:Clubhouse Reserved
DESCRIPTION:Clubhouse reserved \nBobzin \n4:00pm- \n
URL:https://godfreyspond.com/calendar/clubhouse-reserved-306/
CATEGORIES:Public,Reservations
END:VEVENT
END:VCALENDAR