BEGIN:VCALENDAR
VERSION:2.0
PRODID:-//Welcome to Godfrey&#039;s Pond - ECPv4.7.3//NONSGML v1.0//EN
CALSCALE:GREGORIAN
METHOD:PUBLISH
X-WR-CALNAME:Welcome to Godfrey&#039;s Pond
X-ORIGINAL-URL:https://godfreyspond.com
X-WR-CALDESC:Events for Welcome to Godfrey&#039;s Pond
BEGIN:VEVENT
DTSTART;TZID=America/New_York:20210724T110000
DTEND;TZID=America/New_York:20210724T200000
DTSTAMP:20260426T001052
CREATED:20210716T150253Z
LAST-MODIFIED:20210716T152845Z
UID:2977-1627124400-1627156800@godfreyspond.com
SUMMARY:Christmas in July!
DESCRIPTION:CAMPERS and RESIDENTS: This new event will be great for kids and families! Each child will be given a gift bag\, so if you’re able to donate some small toys or candy/treats to help fill them\, please deliver by July 21 to the Camp Store. The event will be held at the Camp B Pavilion. Here is the schedule for the event:\n\n11:00 a.m.—Ornament making followed by tree decorating\n2:00 p.m.—Christmas Bingo\n6:00 p.m.—Potluck Christmas Dinner (with an Ugly Christmas Sunhat contest!)\n7:00 p.m.—Summer Santa\, Games and walking the grounds to look at Christmas lights and decor.\n\nFor those campers who would like to participate in this fun event\, please feel fee to decorate your campsites with Christmas décor. Like Halloween\, if you’d also like to hand out small toys or candy/treat that the kids can put in their gift bags as they walk around\, that would be great too. Let’s make this an event the kids won’t forget!\n\nThank you for your support!\n
URL:https://godfreyspond.com/calendar/christmas-in-july-2/
LOCATION:Godfrey’s Pond\, 7925 Godfrey’s Pond Road\, Bergen\, 14416\, United States
CATEGORIES:Event,Public
ATTACH;FMTTYPE=image/jpeg:https://godfreyspond.com/wp-content/uploads/2021/07/Christmas-in-July-1.jpg
END:VEVENT
END:VCALENDAR