BEGIN:VCALENDAR
VERSION:2.0
PRODID:-//Welcome to Godfrey&#039;s Pond - ECPv4.7.3//NONSGML v1.0//EN
CALSCALE:GREGORIAN
METHOD:PUBLISH
X-WR-CALNAME:Welcome to Godfrey&#039;s Pond
X-ORIGINAL-URL:https://godfreyspond.com
X-WR-CALDESC:Events for Welcome to Godfrey&#039;s Pond
BEGIN:VEVENT
DTSTART;TZID=America/New_York:20220723T170000
DTEND;TZID=America/New_York:20220723T210000
DTSTAMP:20260425T023259
CREATED:20220216T172703Z
LAST-MODIFIED:20220429T134820Z
UID:3568-1658595600-1658610000@godfreyspond.com
SUMMARY:Christmas in July!
DESCRIPTION:This is a great event for kids and their families as they tour both campgrounds and cottages to trick-or-treat and take part in fun camper decorations with cider and donuts!  Watch for flyers\, website and Social Media information as the date approaches. \n
URL:https://godfreyspond.com/calendar/christmas-in-july-3/
LOCATION:Godfrey’s Pond\, 7925 Godfrey’s Pond Road\, Bergen\, 14416\, United States
CATEGORIES:Event
ATTACH;FMTTYPE=image/jpeg:https://godfreyspond.com/wp-content/uploads/2022/02/Christmas-in-July.jpg
END:VEVENT
END:VCALENDAR