BEGIN:VCALENDAR
VERSION:2.0
PRODID:-//Welcome to Godfrey&#039;s Pond - ECPv4.7.3//NONSGML v1.0//EN
CALSCALE:GREGORIAN
METHOD:PUBLISH
X-WR-CALNAME:Welcome to Godfrey&#039;s Pond
X-ORIGINAL-URL:https://godfreyspond.com
X-WR-CALDESC:Events for Welcome to Godfrey&#039;s Pond
BEGIN:VEVENT
DTSTART;TZID=America/New_York:20220807T110000
DTEND;TZID=America/New_York:20220807T160000
DTSTAMP:20260425T042357
CREATED:20220527T145626Z
LAST-MODIFIED:20220527T145626Z
UID:3926-1659870000-1659888000@godfreyspond.com
SUMMARY:Clubhouse Reserved
DESCRIPTION:Clubhouse Reserved \nHolt \n11:00am- 4:00pm \n
URL:https://godfreyspond.com/calendar/clubhouse-reserved-102/
CATEGORIES:Public,Reservations
END:VEVENT
END:VCALENDAR