BEGIN:VCALENDAR
VERSION:2.0
PRODID:-//Welcome to Godfrey&#039;s Pond - ECPv4.7.3//NONSGML v1.0//EN
CALSCALE:GREGORIAN
METHOD:PUBLISH
X-WR-CALNAME:Welcome to Godfrey&#039;s Pond
X-ORIGINAL-URL:https://godfreyspond.com
X-WR-CALDESC:Events for Welcome to Godfrey&#039;s Pond
BEGIN:VEVENT
DTSTART;TZID=America/New_York:20220825T070000
DTEND;TZID=America/New_York:20220825T170000
DTSTAMP:20260425T020735
CREATED:20220824T134403Z
LAST-MODIFIED:20220824T134403Z
UID:4017-1661410800-1661446800@godfreyspond.com
SUMMARY:Clubhouse Reserved
DESCRIPTION:Clubhouse Reserved \nFisher-Stamp \n7:00am- 5:00pm \n
URL:https://godfreyspond.com/calendar/clubhouse-reserved-109/
CATEGORIES:Public,Reservations
END:VEVENT
END:VCALENDAR