BEGIN:VCALENDAR
VERSION:2.0
PRODID:-//Welcome to Godfrey&#039;s Pond - ECPv4.7.3//NONSGML v1.0//EN
CALSCALE:GREGORIAN
METHOD:PUBLISH
X-WR-CALNAME:Welcome to Godfrey&#039;s Pond
X-ORIGINAL-URL:https://godfreyspond.com
X-WR-CALDESC:Events for Welcome to Godfrey&#039;s Pond
BEGIN:VEVENT
DTSTART;TZID=America/New_York:20221106T160000
DTEND;TZID=America/New_York:20221106T210000
DTSTAMP:20260425T042355
CREATED:20221019T220255Z
LAST-MODIFIED:20221019T220255Z
UID:4138-1667750400-1667768400@godfreyspond.com
SUMMARY:Clubhouse Reserved
DESCRIPTION:Clubhouse Reserved \nWarner \n4:00pm- 9:00pm \n
URL:https://godfreyspond.com/calendar/clubhouse-reserved-123/
CATEGORIES:Public,Reservations
END:VEVENT
END:VCALENDAR