BEGIN:VCALENDAR
VERSION:2.0
PRODID:-//Welcome to Godfrey&#039;s Pond - ECPv4.7.3//NONSGML v1.0//EN
CALSCALE:GREGORIAN
METHOD:PUBLISH
X-WR-CALNAME:Welcome to Godfrey&#039;s Pond
X-ORIGINAL-URL:https://godfreyspond.com
X-WR-CALDESC:Events for Welcome to Godfrey&#039;s Pond
BEGIN:VEVENT
DTSTART;TZID=America/New_York:20231125T120000
DTEND;TZID=America/New_York:20231125T210000
DTSTAMP:20260422T000450
CREATED:20230107T150915Z
LAST-MODIFIED:20230216T160253Z
UID:4232-1700913600-1700946000@godfreyspond.com
SUMMARY:Clubhouse Reserved
DESCRIPTION:Clubhouse Reserved \nSloat \n12:00pm- 9:00pm \n
URL:https://godfreyspond.com/calendar/clubhouse-reserved-132/
CATEGORIES:Reservations
END:VEVENT
END:VCALENDAR