BEGIN:VCALENDAR
VERSION:2.0
PRODID:-//Welcome to Godfrey&#039;s Pond - ECPv4.7.3//NONSGML v1.0//EN
CALSCALE:GREGORIAN
METHOD:PUBLISH
X-WR-CALNAME:Welcome to Godfrey&#039;s Pond
X-ORIGINAL-URL:https://godfreyspond.com
X-WR-CALDESC:Events for Welcome to Godfrey&#039;s Pond
BEGIN:VEVENT
DTSTART;TZID=America/New_York:20230312T110000
DTEND;TZID=America/New_York:20230312T180000
DTSTAMP:20260424T193008
CREATED:20230108T143941Z
LAST-MODIFIED:20230216T160549Z
UID:4242-1678618800-1678644000@godfreyspond.com
SUMMARY:Clubhouse Reserved
DESCRIPTION:Clubhouse Reserved \nBridge \n11:00am- 6:00pm \n
URL:https://godfreyspond.com/calendar/clubhouse-reserved-135/
CATEGORIES:Reservations
END:VEVENT
END:VCALENDAR